BEGIN:VCALENDAR
VERSION:2.0
PRODID:gruene-fritzlar.de
METHOD:PUBLISH
BEGIN:VTIMEZONE
TZID:Europe/Berlin
X-LIC-LOCATION:Europe/Berlin
BEGIN:DAYLIGHT
TZOFFSETFROM:+0100
TZOFFSETTO:+0200
TZNAME:CEST
DTSTART:19700329T020000
RRULE:FREQ=YEARLY;INTERVAL=1;BYDAY=-1SU;BYMONTH=3
END:DAYLIGHT
BEGIN:STANDARD
TZOFFSETFROM:+0200
TZOFFSETTO:+0100
TZNAME:CET
DTSTART:19701025T030000
RRULE:FREQ=YEARLY;INTERVAL=1;BYDAY=-1SU;BYMONTH=10
END:STANDARD
END:VTIMEZONE
BEGIN:VEVENT
UID:e55fc8c8979b833aeb37c5f3e34da4e9@gruene-fritzlar.de
URL;VALUE=URI:https://gruene-fritzlar.de/termine/themenabend-ukraine-krie
 g/
LOCATION:Stadthalle, Fritzlar
SUMMARY:Themenabend Ukraine-Krieg
DESCRIPTION;ALTREP="data:text/html,%0A%3Cp%3EFrieden%20schaffen%20mit%20W
 affen%3F%21%20mit%20Deborah%20D%C3%BCring%20%28MdB%29%3C%2Fp%3E%0A":Fried
 en schaffen mit Waffen?! mit Deborah Düring (MdB)
CLASS:PUBLIC
DTSTART;TZID=Europe/Berlin:20240323T180000
DTEND;TZID=Europe/Berlin:20240323T200000
DTSTAMP:20260423T203055
END:VEVENT
END:VCALENDAR